BEGIN:VCALENDAR
VERSION:2.0
PRODID:-//Dhaka School of Economics
CALSCALE:GREGORIAN
METHOD:PUBLISH
X-WR-CALNAME:Dhaka School of Economics
X-ORIGINAL-URL:https://www.dsce.edu.bd/event/news-on-entrepreneurial-economics-2/
X-WR-CALDESC:News on &#8216;Entrepreneurial Economics&#8217;
BEGIN:VEVENT
DTSTART:
DTEND:
SUMMARY:News on &#8216;Entrepreneurial Economics&#8217;
DESCRIPTION:
LOCATION:
END:VEVENT
END:VCALENDAR
