BEGIN:VCALENDAR
VERSION:2.0
PRODID:-//Dhaka School of Economics
CALSCALE:GREGORIAN
METHOD:PUBLISH
X-WR-CALNAME:Dhaka School of Economics
X-ORIGINAL-URL:https://www.dsce.edu.bd/event/prothomalos-news-on-entrepreneurship-econ/
X-WR-CALDESC:Prothom-Alo&#8217;s news on Entrepreneurial Econ.
BEGIN:VEVENT
DTSTART:20191104T000000
DTEND:
SUMMARY:Prothom-Alo&#8217;s news on Entrepreneurial Econ.
DESCRIPTION:
LOCATION:
END:VEVENT
END:VCALENDAR
