BEGIN:VCALENDAR
VERSION:2.0
PRODID:-//Dhaka School of Economics
CALSCALE:GREGORIAN
METHOD:PUBLISH
X-WR-CALNAME:Dhaka School of Economics
X-ORIGINAL-URL:https://www.dsce.edu.bd/event/daily-prothom-alo-news-on-dsce/
X-WR-CALDESC:Prothom Alo news on DScE
BEGIN:VEVENT
DTSTART:20191110T000000
DTEND:20191117T000000
SUMMARY:Prothom Alo news on DScE
DESCRIPTION:"ভবিষ্যতের অর্থনীতিবিদদের জন্য" news published by Daily Prothom-Alo.com on November 10, 2019.
LOCATION:
END:VEVENT
END:VCALENDAR
