BEGIN:VCALENDAR
VERSION:2.0
PRODID:-//Dhaka School of Economics
CALSCALE:GREGORIAN
METHOD:PUBLISH
X-WR-CALNAME:Dhaka School of Economics
X-ORIGINAL-URL:https://www.dsce.edu.bd/event/seminar-on-ppp-news-cover/
X-WR-CALDESC:Seminar on PPP (news cover)
BEGIN:VEVENT
DTSTART:20191116T103000
DTEND:20191116T170000
SUMMARY:Seminar on PPP (news cover)
DESCRIPTION:Seminar: Public-private Partnership for Entrepreneurial Venture: Perspective of Bangladesh
LOCATION:
END:VEVENT
END:VCALENDAR
