BEGIN:VCALENDAR
VERSION:2.0
PRODID:-//Dhaka School of Economics
CALSCALE:GREGORIAN
METHOD:PUBLISH
X-WR-CALNAME:Dhaka School of Economics
X-ORIGINAL-URL:https://www.dsce.edu.bd/event/seminar-on-4th-industrial-revolution/
X-WR-CALDESC:Seminar on 4th Industrial Revolution
BEGIN:VEVENT
DTSTART:
DTEND:
SUMMARY:Seminar on 4th Industrial Revolution
DESCRIPTION:
LOCATION:
END:VEVENT
END:VCALENDAR
