BEGIN:VCALENDAR
VERSION:2.0
PRODID:-//Dhaka School of Economics
CALSCALE:GREGORIAN
METHOD:PUBLISH
X-WR-CALNAME:Dhaka School of Economics
X-ORIGINAL-URL:https://www.dsce.edu.bd/event/conference-ir4-200111/
X-WR-CALDESC:DScE holds national conference on IR4
BEGIN:VEVENT
DTSTART:20200113T000000
DTEND:20200113T000000
SUMMARY:DScE holds national conference on IR4
DESCRIPTION:
LOCATION:4/c, Eskaton Garden Road, Ramna, Dhaka 1000
END:VEVENT
END:VCALENDAR
