BEGIN:VCALENDAR
VERSION:2.0
PRODID:-//Dhaka School of Economics
CALSCALE:GREGORIAN
METHOD:PUBLISH
X-WR-CALNAME:Dhaka School of Economics
X-ORIGINAL-URL:https://www.dsce.edu.bd/event/seminar-on-entrepreneurial-ecosystem-and-green-engineering/
X-WR-CALDESC:Seminar on “Entrepreneurial Ecosystem”
BEGIN:VEVENT
DTSTART:20200222T000000
DTEND:
SUMMARY:Seminar on “Entrepreneurial Ecosystem”
DESCRIPTION:Dhaka School of Economics (DScE) organized a seminar titled “Entrepreneurial Ecosystem and Green Engineering”.
LOCATION:
END:VEVENT
END:VCALENDAR
