BEGIN:VCALENDAR
VERSION:2.0
PRODID:-//Dhaka School of Economics
CALSCALE:GREGORIAN
METHOD:PUBLISH
X-WR-CALNAME:Dhaka School of Economics
X-ORIGINAL-URL:https://www.dsce.edu.bd/event/dsce-for-appropriate-legal-framework-of-digital-marketing/
X-WR-CALDESC:DScE for legal framework of digital marketing
BEGIN:VEVENT
DTSTART:
DTEND:
SUMMARY:DScE for legal framework of digital marketing
DESCRIPTION:
LOCATION:
END:VEVENT
END:VCALENDAR
