BEGIN:VCALENDAR
VERSION:2.0
PRODID:-//Dhaka School of Economics
CALSCALE:GREGORIAN
METHOD:PUBLISH
X-WR-CALNAME:Dhaka School of Economics
X-ORIGINAL-URL:https://www.dsce.edu.bd/event/writing-post-covid/
X-WR-CALDESC:DScE student win prize for writing about &#8220;Post-Covid19&#8221;
BEGIN:VEVENT
DTSTART:20200501T000000
DTEND:20200725T000000
SUMMARY:DScE student win prize for writing about &#8220;Post-Covid19&#8221;
DESCRIPTION:Sanjida Afroz, student DScE won a championship on the category "Protecting migrant workers and flow of remittance"
LOCATION:
END:VEVENT
END:VCALENDAR
