BEGIN:VCALENDAR
VERSION:2.0
PRODID:-//Dhaka School of Economics
CALSCALE:GREGORIAN
METHOD:PUBLISH
X-WR-CALNAME:Dhaka School of Economics
X-ORIGINAL-URL:https://www.dsce.edu.bd/event/eec-organized-virtual-conference-titled-new-normal-and-covid-19/
X-WR-CALDESC:EEC organized virtual conference on &#8220;COVID-19&#8221;
BEGIN:VEVENT
DTSTART:
DTEND:
SUMMARY:EEC organized virtual conference on &#8220;COVID-19&#8221;
DESCRIPTION:
LOCATION:
END:VEVENT
END:VCALENDAR
