BEGIN:VCALENDAR
VERSION:2.0
PRODID:-//Dhaka School of Economics
CALSCALE:GREGORIAN
METHOD:PUBLISH
X-WR-CALNAME:Dhaka School of Economics
X-ORIGINAL-URL:https://www.dsce.edu.bd/event/national-mourning-day-discussion-hosted-by-the-dsce/
X-WR-CALDESC:&#8216;National Mourning Day&#8217; hosted by the DScE
BEGIN:VEVENT
DTSTART:
DTEND:
SUMMARY:&#8216;National Mourning Day&#8217; hosted by the DScE
DESCRIPTION:
LOCATION:
END:VEVENT
END:VCALENDAR
