BEGIN:VCALENDAR
VERSION:2.0
PRODID:-//Dhaka School of Economics
CALSCALE:GREGORIAN
METHOD:PUBLISH
X-WR-CALNAME:Dhaka School of Economics
X-ORIGINAL-URL:https://www.dsce.edu.bd/event/breakthrough-thinking-in-business/
X-WR-CALDESC:Conference on Breakthrough Thinking in Business
BEGIN:VEVENT
DTSTART:20200918T000000
DTEND:20200918T000000
SUMMARY:Conference on Breakthrough Thinking in Business
DESCRIPTION:Web based national conference on ‘Breakthrough thinking in Business -Industry in Bangladesh under a pandemic situation’.
LOCATION:
END:VEVENT
END:VCALENDAR
