BEGIN:VCALENDAR
VERSION:2.0
PRODID:-//Dhaka School of Economics
CALSCALE:GREGORIAN
METHOD:PUBLISH
X-WR-CALNAME:Dhaka School of Economics
X-ORIGINAL-URL:https://www.dsce.edu.bd/event/seminar-on-creativity-and-youth-on-socio-economic-perspective-of-bangladesh/
X-WR-CALDESC:Seminar on &#8220;Socio-Economic Perspective of Bangladesh&#8221;
BEGIN:VEVENT
DTSTART:20201010T000000
DTEND:20201010T000000
SUMMARY:Seminar on &#8220;Socio-Economic Perspective of Bangladesh&#8221;
DESCRIPTION:Students of Dhaka School of Economics, University of Dhaka, and Comilla Universities arranged the virtual seminar on "Creativity and Youth on Socio-Economic Perspective of Bangladesh".
LOCATION:
END:VEVENT
END:VCALENDAR
