BEGIN:VCALENDAR
VERSION:2.0
PRODID:-//Dhaka School of Economics
CALSCALE:GREGORIAN
METHOD:PUBLISH
X-WR-CALNAME:Dhaka School of Economics
X-ORIGINAL-URL:https://www.dsce.edu.bd/event/conf-covid-19-2011/
X-WR-CALDESC:Conference on &#8220;New Normal and COVID-19: Impact&#8221;
BEGIN:VEVENT
DTSTART:
DTEND:
SUMMARY:Conference on &#8220;New Normal and COVID-19: Impact&#8221;
DESCRIPTION:
LOCATION:
END:VEVENT
END:VCALENDAR
