BEGIN:VCALENDAR
VERSION:2.0
PRODID:-//Dhaka School of Economics
CALSCALE:GREGORIAN
METHOD:PUBLISH
X-WR-CALNAME:Dhaka School of Economics
X-ORIGINAL-URL:https://www.dsce.edu.bd/event/effect-of-pandemic-and-unemployment/
X-WR-CALDESC:Webinar on ‘Effect of Pandemic&#8221;
BEGIN:VEVENT
DTSTART:20210625T000000
DTEND:20210625T000000
SUMMARY:Webinar on ‘Effect of Pandemic&#8221;
DESCRIPTION:
LOCATION:
END:VEVENT
END:VCALENDAR
