BEGIN:VCALENDAR
VERSION:2.0
PRODID:-//Dhaka School of Economics
CALSCALE:GREGORIAN
METHOD:PUBLISH
X-WR-CALNAME:Dhaka School of Economics
X-ORIGINAL-URL:https://www.dsce.edu.bd/event/4918/
X-WR-CALDESC:Freshers Reception and Webinar by EEC
BEGIN:VEVENT
DTSTART:20210710T000000
DTEND:20210710T000000
SUMMARY:Freshers Reception and Webinar by EEC
DESCRIPTION:
LOCATION:
END:VEVENT
END:VCALENDAR
