BEGIN:VCALENDAR
VERSION:2.0
PRODID:-//Dhaka School of Economics
CALSCALE:GREGORIAN
METHOD:PUBLISH
X-WR-CALNAME:Dhaka School of Economics
X-ORIGINAL-URL:https://www.dsce.edu.bd/event/national-mourning-day21/
X-WR-CALDESC:DScE virtually observed the National Mourning Day
BEGIN:VEVENT
DTSTART:20210815T000000
DTEND:
SUMMARY:DScE virtually observed the National Mourning Day
DESCRIPTION:
LOCATION:
END:VEVENT
END:VCALENDAR
