BEGIN:VCALENDAR
VERSION:2.0
PRODID:-//Dhaka School of Economics
CALSCALE:GREGORIAN
METHOD:PUBLISH
X-WR-CALNAME:Dhaka School of Economics
X-ORIGINAL-URL:https://www.dsce.edu.bd/event/symposium-on-research-methodology-and-econometrics/
X-WR-CALDESC:Symposium on Research methodology by EEC
BEGIN:VEVENT
DTSTART:20210903T000000
DTEND:
SUMMARY:Symposium on Research methodology by EEC
DESCRIPTION:
LOCATION:
END:VEVENT
END:VCALENDAR
