BEGIN:VCALENDAR
VERSION:2.0
PRODID:-//Dhaka School of Economics
CALSCALE:GREGORIAN
METHOD:PUBLISH
X-WR-CALNAME:Dhaka School of Economics
X-ORIGINAL-URL:https://www.dsce.edu.bd/event/prothom-alo-news-on-entrepreneurial-economics/
X-WR-CALDESC:Prothom Alo news on &#8220;Entrepreneurial Economics&#8221;
BEGIN:VEVENT
DTSTART:20211129T000000
DTEND:
SUMMARY:Prothom Alo news on &#8220;Entrepreneurial Economics&#8221;
DESCRIPTION:
LOCATION:
END:VEVENT
END:VCALENDAR
