BEGIN:VCALENDAR
VERSION:2.0
PRODID:-//Dhaka School of Economics
CALSCALE:GREGORIAN
METHOD:PUBLISH
X-WR-CALNAME:Dhaka School of Economics
X-ORIGINAL-URL:https://www.dsce.edu.bd/event/the-business-standard-news-on-entrepreneurial-economics-2112/
X-WR-CALDESC:News on &#8220;Entrepreneurial Economics&#8221;
BEGIN:VEVENT
DTSTART:20211203T000000
DTEND:
SUMMARY:News on &#8220;Entrepreneurial Economics&#8221;
DESCRIPTION:
LOCATION:
END:VEVENT
END:VCALENDAR
