BEGIN:VCALENDAR
VERSION:2.0
PRODID:-//Dhaka School of Economics
CALSCALE:GREGORIAN
METHOD:PUBLISH
X-WR-CALNAME:Dhaka School of Economics
X-ORIGINAL-URL:https://www.dsce.edu.bd/event/dr-qk-ahmads-lecture-on-socio-economic-development-news-cover/
X-WR-CALDESC:Dr. Khalikuzzaman&#8217;s lecture on &#8220;Socio-Economic Development&#8221;
BEGIN:VEVENT
DTSTART:20211220T000000
DTEND:
SUMMARY:Dr. Khalikuzzaman&#8217;s lecture on &#8220;Socio-Economic Development&#8221;
DESCRIPTION:
LOCATION:
END:VEVENT
END:VCALENDAR
