BEGIN:VCALENDAR
VERSION:2.0
PRODID:-//Dhaka School of Economics
CALSCALE:GREGORIAN
METHOD:PUBLISH
X-WR-CALNAME:Dhaka School of Economics
X-ORIGINAL-URL:https://www.dsce.edu.bd/event/training-workshop-on-business-analytics-during-covid-19-held/
X-WR-CALDESC:Workshop on Business Analytics (Covid-19)
BEGIN:VEVENT
DTSTART:20220209T000000
DTEND:20220210T000000
SUMMARY:Workshop on Business Analytics (Covid-19)
DESCRIPTION:
LOCATION:
END:VEVENT
END:VCALENDAR
