BEGIN:VCALENDAR
VERSION:2.0
PRODID:-//Dhaka School of Economics
CALSCALE:GREGORIAN
METHOD:PUBLISH
X-WR-CALNAME:Dhaka School of Economics
X-ORIGINAL-URL:https://www.dsce.edu.bd/event/entrepreneurship-club-organized-indoor-game-competition/
X-WR-CALDESC:Entrepreneurship Club Organized &#8216;Indoor Game&#8217;
BEGIN:VEVENT
DTSTART:20220723T000000
DTEND:20220723T000000
SUMMARY:Entrepreneurship Club Organized &#8216;Indoor Game&#8217;
DESCRIPTION:
LOCATION:
END:VEVENT
END:VCALENDAR
