BEGIN:VCALENDAR
VERSION:2.0
PRODID:-//Dhaka School of Economics
CALSCALE:GREGORIAN
METHOD:PUBLISH
X-WR-CALNAME:Dhaka School of Economics
X-ORIGINAL-URL:https://www.dsce.edu.bd/event/training-programme-on-ardl/
X-WR-CALDESC:Training Programme on ARDL
BEGIN:VEVENT
DTSTART:20220821T000000
DTEND:20220821T000000
SUMMARY:Training Programme on ARDL
DESCRIPTION:
LOCATION:
END:VEVENT
END:VCALENDAR
