BEGIN:VCALENDAR
VERSION:2.0
PRODID:-//Dhaka School of Economics
CALSCALE:GREGORIAN
METHOD:PUBLISH
X-WR-CALNAME:Dhaka School of Economics
X-ORIGINAL-URL:https://www.dsce.edu.bd/event/dsce-organised-a-seminar-on-rohingya/
X-WR-CALDESC:DScE Organised a Seminar on &#8220;Rohingya&#8221;
BEGIN:VEVENT
DTSTART:20230121T000000
DTEND:20230121T000000
SUMMARY:DScE Organised a Seminar on &#8220;Rohingya&#8221;
DESCRIPTION:
LOCATION:
END:VEVENT
END:VCALENDAR
