BEGIN:VCALENDAR
VERSION:2.0
PRODID:-//Dhaka School of Economics
CALSCALE:GREGORIAN
METHOD:PUBLISH
X-WR-CALNAME:Dhaka School of Economics
X-ORIGINAL-URL:https://www.dsce.edu.bd/event/conference-on-entrepreneurship-in-the-global-turbulent/
X-WR-CALDESC:Conference on &#8220;Entrepreneurship in the Global Turbulent&#8221;
BEGIN:VEVENT
DTSTART:
DTEND:
SUMMARY:Conference on &#8220;Entrepreneurship in the Global Turbulent&#8221;
DESCRIPTION:
LOCATION:
END:VEVENT
END:VCALENDAR
