BEGIN:VCALENDAR
VERSION:2.0
PRODID:-//Dhaka School of Economics
CALSCALE:GREGORIAN
METHOD:PUBLISH
X-WR-CALNAME:Dhaka School of Economics
X-ORIGINAL-URL:https://www.dsce.edu.bd/event/%e0%a6%ac%e0%a6%b0%e0%a7%8d%e0%a6%b7%e0%a6%ac%e0%a6%b0%e0%a6%a3-%e0%a6%89%e0%a6%a6%e0%a6%af%e0%a6%be%e0%a6%aa%e0%a6%a8-23/
X-WR-CALDESC:ঢাকা স্কুল অব ইকনোমিক্স এ বর্ষবরণ উদযাপন (news cover)
BEGIN:VEVENT
DTSTART:20230414T000000
DTEND:
SUMMARY:ঢাকা স্কুল অব ইকনোমিক্স এ বর্ষবরণ উদযাপন (news cover)
DESCRIPTION:
LOCATION:
END:VEVENT
END:VCALENDAR
