BEGIN:VCALENDAR
VERSION:2.0
PRODID:-//Dhaka School of Economics
CALSCALE:GREGORIAN
METHOD:PUBLISH
X-WR-CALNAME:Dhaka School of Economics
X-ORIGINAL-URL:https://www.dsce.edu.bd/event/seminar-%e0%a6%85%e0%a6%b8%e0%a7%8d%e0%a6%9f%e0%a7%8d%e0%a6%b0%e0%a7%87%e0%a6%b2%e0%a6%bf%e0%a7%9f%e0%a6%be%e0%a7%9f-%e0%a6%89%e0%a6%9a%e0%a7%8d%e0%a6%9a%e0%a6%b6%e0%a6%bf%e0%a6%95%e0%a7%8d%e0%a6%b7/
X-WR-CALDESC:অস্ট্রেলিয়ায় উচ্চশিক্ষা বিষয়ে ঢাকা স্কুল অব ইকনোমিক্সের সেমিনার (news cover)
BEGIN:VEVENT
DTSTART:20230412T000000
DTEND:
SUMMARY:অস্ট্রেলিয়ায় উচ্চশিক্ষা বিষয়ে ঢাকা স্কুল অব ইকনোমিক্সের সেমিনার (news cover)
DESCRIPTION:
LOCATION:
END:VEVENT
END:VCALENDAR
