BEGIN:VCALENDAR
VERSION:2.0
PRODID:-//Dhaka School of Economics
CALSCALE:GREGORIAN
METHOD:PUBLISH
X-WR-CALNAME:Dhaka School of Economics
X-ORIGINAL-URL:https://www.dsce.edu.bd/event/seminar-on-50-years-of-receiving-julio-curie-podok-23/
X-WR-CALDESC:Seminar on &#8220;50 Years of Receiving Julio Curie Podok by Bangabandhu&#8221;
BEGIN:VEVENT
DTSTART:20230529T000000
DTEND:
SUMMARY:Seminar on &#8220;50 Years of Receiving Julio Curie Podok by Bangabandhu&#8221;
DESCRIPTION:
LOCATION:
END:VEVENT
END:VCALENDAR
