BEGIN:VCALENDAR
VERSION:2.0
PRODID:-//Dhaka School of Economics
CALSCALE:GREGORIAN
METHOD:PUBLISH
X-WR-CALNAME:Dhaka School of Economics
X-ORIGINAL-URL:https://www.dsce.edu.bd/event/world-environment-day-2023-celebration-at-dsce/
X-WR-CALDESC:World Environment Day 2023 Celebration at DScE
BEGIN:VEVENT
DTSTART:20230605T000000
DTEND:
SUMMARY:World Environment Day 2023 Celebration at DScE
DESCRIPTION:
LOCATION:
END:VEVENT
END:VCALENDAR
