BEGIN:VCALENDAR
VERSION:2.0
PRODID:-//Dhaka School of Economics
CALSCALE:GREGORIAN
METHOD:PUBLISH
X-WR-CALNAME:Dhaka School of Economics
X-ORIGINAL-URL:https://www.dsce.edu.bd/event/birthday-celebration-of-dr-qk-ahmad/
X-WR-CALDESC:Birthday Celebration of Dr. Qazi Kholiquzzaman Ahmad
BEGIN:VEVENT
DTSTART:20230613T000000
DTEND:
SUMMARY:Birthday Celebration of Dr. Qazi Kholiquzzaman Ahmad
DESCRIPTION:
LOCATION:
END:VEVENT
END:VCALENDAR
