BEGIN:VCALENDAR
VERSION:2.0
PRODID:-//Dhaka School of Economics
CALSCALE:GREGORIAN
METHOD:PUBLISH
X-WR-CALNAME:Dhaka School of Economics
X-ORIGINAL-URL:https://www.dsce.edu.bd/event/pension-scheme-should-start-from-25-year-old/
X-WR-CALDESC:‘Pension scheme should start from 25-year old’ (news cover)
BEGIN:VEVENT
DTSTART:20230611T000000
DTEND:
SUMMARY:‘Pension scheme should start from 25-year old’ (news cover)
DESCRIPTION:
LOCATION:
END:VEVENT
END:VCALENDAR
