BEGIN:VCALENDAR
VERSION:2.0
PRODID:-//Dhaka School of Economics
CALSCALE:GREGORIAN
METHOD:PUBLISH
X-WR-CALNAME:Dhaka School of Economics
X-ORIGINAL-URL:https://www.dsce.edu.bd/event/2023-08-05-319015/
X-WR-CALDESC:ছাত্রকেন্দ্রিক শিক্ষা এবং উদ্যোক্তা শিক্ষার গুরুত্ব (news cover)
BEGIN:VEVENT
DTSTART:
DTEND:
SUMMARY:ছাত্রকেন্দ্রিক শিক্ষা এবং উদ্যোক্তা শিক্ষার গুরুত্ব (news cover)
DESCRIPTION:
LOCATION:
END:VEVENT
END:VCALENDAR
