BEGIN:VCALENDAR
VERSION:2.0
PRODID:-//Dhaka School of Economics
CALSCALE:GREGORIAN
METHOD:PUBLISH
X-WR-CALNAME:Dhaka School of Economics
X-ORIGINAL-URL:https://www.dsce.edu.bd/event/dsce-observes-national-mourning-day-2023/
X-WR-CALDESC:DScE Observes National Mourning Day 2023
BEGIN:VEVENT
DTSTART:20230815T000000
DTEND:20230815T000000
SUMMARY:DScE Observes National Mourning Day 2023
DESCRIPTION:
LOCATION:
END:VEVENT
END:VCALENDAR
