BEGIN:VCALENDAR
VERSION:2.0
PRODID:-//Dhaka School of Economics
CALSCALE:GREGORIAN
METHOD:PUBLISH
X-WR-CALNAME:Dhaka School of Economics
X-ORIGINAL-URL:https://www.dsce.edu.bd/event/50-years-of-bangabandhus-curie-peace-medal-celebrated/
X-WR-CALDESC:50 years of Bangabandhu&#8217;s Curie Peace Medal celebrated (news cover)
BEGIN:VEVENT
DTSTART:20230528T000000
DTEND:
SUMMARY:50 years of Bangabandhu&#8217;s Curie Peace Medal celebrated (news cover)
DESCRIPTION:
LOCATION:
END:VEVENT
END:VCALENDAR
