BEGIN:VCALENDAR
VERSION:2.0
PRODID:-//Dhaka School of Economics
CALSCALE:GREGORIAN
METHOD:PUBLISH
X-WR-CALNAME:Dhaka School of Economics
X-ORIGINAL-URL:https://www.dsce.edu.bd/event/entrepreneurial-club-12-09-2023/
X-WR-CALDESC:উদ্যোক্তারা কীভাবে ব্যাংকের সঙ্গে যোগাযোগ করবেন (news cover)
BEGIN:VEVENT
DTSTART:20230912T000000
DTEND:
SUMMARY:উদ্যোক্তারা কীভাবে ব্যাংকের সঙ্গে যোগাযোগ করবেন (news cover)
DESCRIPTION:
LOCATION:
END:VEVENT
END:VCALENDAR
