BEGIN:VCALENDAR
VERSION:2.0
PRODID:-//Dhaka School of Economics
CALSCALE:GREGORIAN
METHOD:PUBLISH
X-WR-CALNAME:Dhaka School of Economics
X-ORIGINAL-URL:https://www.dsce.edu.bd/event/tragic-death-of-bangabandhu/
X-WR-CALDESC:Tragic Death of Bangabandhu and His Family Members
BEGIN:VEVENT
DTSTART:20230815T120000
DTEND:20230815T190000
SUMMARY:Tragic Death of Bangabandhu and His Family Members
DESCRIPTION:
LOCATION:
END:VEVENT
END:VCALENDAR
