BEGIN:VCALENDAR
VERSION:2.0
PRODID:-//Dhaka School of Economics
CALSCALE:GREGORIAN
METHOD:PUBLISH
X-WR-CALNAME:Dhaka School of Economics
X-ORIGINAL-URL:https://www.dsce.edu.bd/event/34th-governing-council-meeting/
X-WR-CALDESC:34th Governing Council meeting was held at DScE
BEGIN:VEVENT
DTSTART:20231210T150000
DTEND:20231210T160000
SUMMARY:34th Governing Council meeting was held at DScE
DESCRIPTION:
LOCATION:4/C, Eskaton Garden Road, Dhaka-1000
END:VEVENT
END:VCALENDAR
