BEGIN:VCALENDAR
VERSION:2.0
PRODID:-//Dhaka School of Economics
CALSCALE:GREGORIAN
METHOD:PUBLISH
X-WR-CALNAME:Dhaka School of Economics
X-ORIGINAL-URL:https://www.dsce.edu.bd/event/dsce-observes-victory-day-2023/
X-WR-CALDESC:DScE Observes Victory Day 2023
BEGIN:VEVENT
DTSTART:20231220T150000
DTEND:20231220T170000
SUMMARY:DScE Observes Victory Day 2023
DESCRIPTION:
LOCATION:
END:VEVENT
END:VCALENDAR
