BEGIN:VCALENDAR
VERSION:2.0
PRODID:-//Dhaka School of Economics
CALSCALE:GREGORIAN
METHOD:PUBLISH
X-WR-CALNAME:Dhaka School of Economics
X-ORIGINAL-URL:https://www.dsce.edu.bd/event/ittefaq-news-cover-20-12-23/
X-WR-CALDESC:ঢাকা স্কুল অব ইকনোমিকসে বিজয় দিবস উদযাপন (news cover)
BEGIN:VEVENT
DTSTART:20231221T000000
DTEND:
SUMMARY:ঢাকা স্কুল অব ইকনোমিকসে বিজয় দিবস উদযাপন (news cover)
DESCRIPTION:
LOCATION:
END:VEVENT
END:VCALENDAR
