BEGIN:VCALENDAR
VERSION:2.0
PRODID:-//Dhaka School of Economics
CALSCALE:GREGORIAN
METHOD:PUBLISH
X-WR-CALNAME:Dhaka School of Economics
X-ORIGINAL-URL:https://www.dsce.edu.bd/event/planned-economy-bangladesh-experience/
X-WR-CALDESC:Seminar On &#8220;Planned Economy: Bangladesh Experience&#8221;
BEGIN:VEVENT
DTSTART:20240116T150000
DTEND:20240116T170000
SUMMARY:Seminar On &#8220;Planned Economy: Bangladesh Experience&#8221;
DESCRIPTION:
LOCATION:
END:VEVENT
END:VCALENDAR
