BEGIN:VCALENDAR
VERSION:2.0
PRODID:-//Dhaka School of Economics
CALSCALE:GREGORIAN
METHOD:PUBLISH
X-WR-CALNAME:Dhaka School of Economics
X-ORIGINAL-URL:https://www.dsce.edu.bd/event/international-conference-2024/
X-WR-CALDESC:ঢাকা স্কুল অব ইকনোমিক্সে আন্তর্জাতিক কনফারেন্স অনুষ্ঠিত (news cover)
BEGIN:VEVENT
DTSTART:20240227T000000
DTEND:
SUMMARY:ঢাকা স্কুল অব ইকনোমিক্সে আন্তর্জাতিক কনফারেন্স অনুষ্ঠিত (news cover)
DESCRIPTION:
LOCATION:4/C, Eskaton Garden Road, Dhaka-1000
END:VEVENT
END:VCALENDAR
