BEGIN:VCALENDAR
VERSION:2.0
PRODID:-//Dhaka School of Economics
CALSCALE:GREGORIAN
METHOD:PUBLISH
X-WR-CALNAME:Dhaka School of Economics
X-ORIGINAL-URL:https://www.dsce.edu.bd/event/birth-anniversary-bangabandhu-2024/
X-WR-CALDESC:DScE Observes Birth Anniversary of Bangabandhu
BEGIN:VEVENT
DTSTART:20240318T140000
DTEND:20240318T153000
SUMMARY:DScE Observes Birth Anniversary of Bangabandhu
DESCRIPTION:
LOCATION:4/C, Eskaton Garden Road, Dhaka-1000
END:VEVENT
END:VCALENDAR
