BEGIN:VCALENDAR
VERSION:2.0
PRODID:-//Dhaka School of Economics
CALSCALE:GREGORIAN
METHOD:PUBLISH
X-WR-CALNAME:Dhaka School of Economics
X-ORIGINAL-URL:https://www.dsce.edu.bd/event/independence-day-of-bangladesh-2024/
X-WR-CALDESC:DScE Observes Independence Day of Bangladesh
BEGIN:VEVENT
DTSTART:20240327T140000
DTEND:20240327T153000
SUMMARY:DScE Observes Independence Day of Bangladesh
DESCRIPTION:
LOCATION:4/C, Eskaton Garden Road, Dhaka-1000
END:VEVENT
END:VCALENDAR
