BEGIN:VCALENDAR
VERSION:2.0
PRODID:-//Dhaka School of Economics
CALSCALE:GREGORIAN
METHOD:PUBLISH
X-WR-CALNAME:Dhaka School of Economics
X-ORIGINAL-URL:https://www.dsce.edu.bd/event/%e0%a6%89%e0%a6%a6%e0%a7%8d%e0%a6%af%e0%a7%8b%e0%a6%95%e0%a7%8d%e0%a6%a4%e0%a6%be-%e0%a6%b9%e0%a6%93%e0%a6%af%e0%a6%bc%e0%a6%be%e0%a6%b0-%e0%a6%aa%e0%a7%8d%e0%a6%b0%e0%a7%87%e0%a6%b0%e0%a6%a3%e0%a6%be/
X-WR-CALDESC:উদ্যোক্তা হওয়ার প্রেরণা যে বই (news cover)
BEGIN:VEVENT
DTSTART:20240415T000000
DTEND:
SUMMARY:উদ্যোক্তা হওয়ার প্রেরণা যে বই (news cover)
DESCRIPTION:
LOCATION:
END:VEVENT
END:VCALENDAR
