BEGIN:VCALENDAR
VERSION:2.0
PRODID:-//Dhaka School of Economics
CALSCALE:GREGORIAN
METHOD:PUBLISH
X-WR-CALNAME:Dhaka School of Economics
X-ORIGINAL-URL:https://www.dsce.edu.bd/event/%e0%a6%ac%e0%a6%be%e0%a6%82%e0%a6%b2%e0%a6%be-%e0%a6%ac%e0%a6%b0%e0%a7%8d%e0%a6%b7%e0%a6%ac%e0%a6%b0%e0%a6%a3-2024/
X-WR-CALDESC:ঢাকা স্কুল অব ইকনোমিকস-এ বাংলা বর্ষবরণ উদযাপন
BEGIN:VEVENT
DTSTART:20240427T150000
DTEND:20240427T170000
SUMMARY:ঢাকা স্কুল অব ইকনোমিকস-এ বাংলা বর্ষবরণ উদযাপন
DESCRIPTION:
LOCATION:4/C, Eskaton Garden Road, Dhaka-1000
END:VEVENT
END:VCALENDAR
