BEGIN:VCALENDAR
VERSION:2.0
PRODID:-//Dhaka School of Economics
CALSCALE:GREGORIAN
METHOD:PUBLISH
X-WR-CALNAME:Dhaka School of Economics
X-ORIGINAL-URL:https://www.dsce.edu.bd/event/%e0%a6%ac%e0%a6%bf%e0%a6%b6%e0%a7%87%e0%a6%b7-%e0%a6%b8%e0%a6%82%e0%a6%ac%e0%a6%b0%e0%a7%8d%e0%a6%a7%e0%a6%a8%e0%a6%be-2024/
X-WR-CALDESC:ড. কাজী খলীকুজ্জমান আহমদ- কে বিশেষ সংবর্ধনা
BEGIN:VEVENT
DTSTART:20240525T000000
DTEND:
SUMMARY:ড. কাজী খলীকুজ্জমান আহমদ- কে বিশেষ সংবর্ধনা
DESCRIPTION:
LOCATION:
END:VEVENT
END:VCALENDAR
