BEGIN:VCALENDAR
VERSION:2.0
PRODID:-//Dhaka School of Economics
CALSCALE:GREGORIAN
METHOD:PUBLISH
X-WR-CALNAME:Dhaka School of Economics
X-ORIGINAL-URL:https://www.dsce.edu.bd/event/%e0%a6%ac%e0%a6%bf%e0%a6%b6%e0%a7%8d%e0%a6%ac-%e0%a6%aa%e0%a6%b0%e0%a6%bf%e0%a6%ac%e0%a7%87%e0%a6%b6-%e0%a6%a6%e0%a6%bf%e0%a6%ac%e0%a6%b8-%e0%a7%a8%e0%a7%a6%e0%a7%a8%e0%a7%aa/
X-WR-CALDESC:ঢাকা স্কুল অব ইকনোমিকস-এ বিশ্ব পরিবেশ দিবস উদযাপন
BEGIN:VEVENT
DTSTART:20240605T000000
DTEND:20240605T000000
SUMMARY:ঢাকা স্কুল অব ইকনোমিকস-এ বিশ্ব পরিবেশ দিবস উদযাপন
DESCRIPTION:
LOCATION:
END:VEVENT
END:VCALENDAR
