BEGIN:VCALENDAR
VERSION:2.0
PRODID:-//Dhaka School of Economics
CALSCALE:GREGORIAN
METHOD:PUBLISH
X-WR-CALNAME:Dhaka School of Economics
X-ORIGINAL-URL:https://www.dsce.edu.bd/event/%e0%a6%ac%e0%a6%be%e0%a6%9c%e0%a7%87%e0%a6%9f-%e0%a6%aa%e0%a6%b0%e0%a7%8d%e0%a6%af%e0%a6%be%e0%a6%b2%e0%a7%8b%e0%a6%9a%e0%a6%a8%e0%a6%be-%e0%a7%a8%e0%a7%a6%e0%a7%a8%e0%a7%aa-%e0%a7%a8%e0%a7%ab/
X-WR-CALDESC:ঢাকা স্কুল অব ইকনোমিকস বাজেট পর্যালোচনা ২০২৪-২৫
BEGIN:VEVENT
DTSTART:20240626T000000
DTEND:20240626T000000
SUMMARY:ঢাকা স্কুল অব ইকনোমিকস বাজেট পর্যালোচনা ২০২৪-২৫
DESCRIPTION:
LOCATION:
END:VEVENT
END:VCALENDAR
