BEGIN:VCALENDAR
VERSION:2.0
PRODID:-//Dhaka School of Economics
CALSCALE:GREGORIAN
METHOD:PUBLISH
X-WR-CALNAME:Dhaka School of Economics
X-ORIGINAL-URL:https://www.dsce.edu.bd/event/jugantor-news-cover-12-08-2024/
X-WR-CALDESC:স্বপ্নের পথযাত্রায় অন্তর্বর্তী সরকার (news cover)
BEGIN:VEVENT
DTSTART:20240812T000000
DTEND:20240812T000000
SUMMARY:স্বপ্নের পথযাত্রায় অন্তর্বর্তী সরকার (news cover)
DESCRIPTION:
LOCATION:
END:VEVENT
END:VCALENDAR
